BEGIN:VCALENDAR
VERSION:2.0
PRODID:-//hacksw/handcal//NONSGML v1.0//EN
CALSCALE:GREGORIAN
BEGIN:VEVENT
UID:69eb1d792f878
SEQUENCE:0
DESCRIPTION:オートアフターマーケット東北2025
DTSTART:20250920T010000Z
DTEND:20250921T070000Z
SUMMARY:オートアフターマーケット東北2025
LOCATION:夢メッセみやぎ
URL:https://e-ve.event-form.jp/event/106106/AA_Tohoku
DTSTAMP:20260424T163625Z
END:VEVENT
END:VCALENDAR