BEGIN:VCALENDAR
VERSION:2.0
PRODID:-//hacksw/handcal//NONSGML v1.0//EN
CALSCALE:GREGORIAN
BEGIN:VEVENT
UID:69eb1d9d27777
SEQUENCE:0
DESCRIPTION:オートアフターマーケット九州2025
DTSTART:20251004T010000Z
DTEND:20251005T070000Z
SUMMARY:オートアフターマーケット九州2025
LOCATION:マリンメッセ福岡 B館
URL:https://e-ve.event-form.jp/event/106132/AA_Kyusyu
DTSTAMP:20260424T163701Z
END:VEVENT
END:VCALENDAR