BEGIN:VCALENDAR
VERSION:2.0
PRODID:-//hacksw/handcal//NONSGML v1.0//EN
CALSCALE:GREGORIAN
BEGIN:VEVENT
UID:69e55c3a4942b
SEQUENCE:0
DESCRIPTION:International Osteology Symposium Vienna 2026 へご参加を検討されている先生方向け
DTSTART:20260423T000000Z
DTEND:20260425T080000Z
SUMMARY:[お知らせメール登録]  International Osteology Symposium Vienna 2026 に関する情報配信
LOCATION:ウイーン
URL:https://e-ve.event-form.jp/event/109938/IOS2026
DTSTAMP:20260420T075034Z
END:VEVENT
END:VCALENDAR