BEGIN:VCALENDAR
VERSION:2.0
PRODID:-//hacksw/handcal//NONSGML v1.0//EN
CALSCALE:GREGORIAN
BEGIN:VEVENT
UID:69e519313179f
SEQUENCE:0
DESCRIPTION:スピリチュアル・フェスティバル2026 無料入場チケット
DTSTART:20260808T030000Z
DTEND:20260809T080000Z
SUMMARY:スピリチュアル・フェスティバル2026 無料入場チケット
LOCATION:幕張メッセ　国際会議場
URL:https://e-ve.event-form.jp/event/113608/spifes2026_entrance_ticket
DTSTAMP:20260420T030433Z
END:VEVENT
END:VCALENDAR