BEGIN:VCALENDAR
VERSION:2.0
PRODID:-//hacksw/handcal//NONSGML v1.0//EN
CALSCALE:GREGORIAN
BEGIN:VEVENT
UID:69eb78762acd7
SEQUENCE:0
DESCRIPTION:≪岩田合同法律事務所 (Iwata Godo)／PrivacyRules ≫
DTSTART:20251030T053000Z
DTEND:20251030T080000Z
SUMMARY:グローバル・プライバシー及びAI規制の最新動向 / Data Without Borders:  Trust\, Tech & Global Solutions
LOCATION:丸ビルホール＆コンフェレンススクエア Room 4
URL:https://e-ve.event-form.jp/event/114121/igseminar_pr02
DTSTAMP:20260424T230438Z
END:VEVENT
END:VCALENDAR