BEGIN:VCALENDAR
VERSION:2.0
PRODID:-//hacksw/handcal//NONSGML v1.0//EN
CALSCALE:GREGORIAN
BEGIN:VEVENT
UID:69e4ebea9b5d3
SEQUENCE:0
DESCRIPTION:IKARI Find a Solution 2026 in 宇都宮
DTSTART:20260423T010000Z
DTEND:20260423T080000Z
SUMMARY:IKARI Find a Solution 2026 in 宇都宮
LOCATION:ライトキューブ宇都宮 1階
URL:https://e-ve.event-form.jp/event/114983/ikari-ifas_utsunomiya
DTSTAMP:20260419T235122Z
END:VEVENT
END:VCALENDAR