BEGIN:VCALENDAR
VERSION:2.0
PRODID:-//hacksw/handcal//NONSGML v1.0//EN
CALSCALE:GREGORIAN
BEGIN:VEVENT
UID:69eba6ba9c22c
SEQUENCE:0
DESCRIPTION:必見！うまく細胞診ができるようになる！
DTSTART:20251028T113000Z
DTEND:20251028T130000Z
SUMMARY:VETS TECH WEB SEMINAR Vol.72（藤田先生）
LOCATION:WEB SEMINAR
URL:https://e-ve.event-form.jp/event/116144/vetstechwebseminar20251028
DTSTAMP:20260425T022202Z
END:VEVENT
END:VCALENDAR