BEGIN:VCALENDAR
VERSION:2.0
PRODID:-//hacksw/handcal//NONSGML v1.0//EN
CALSCALE:GREGORIAN
BEGIN:VEVENT
UID:69e58696f1313
SEQUENCE:0
DESCRIPTION:講師:白数正義先生
DTSTART:20261018T010000Z
DTEND:20261018T080000Z
SUMMARY:【東京】2x4治療の実践　2026年10/18 (日)　1日間
LOCATION:株式会社デンタリード
URL:https://e-ve.event-form.jp/event/116169/UVY9q5fSZH0I
DTSTAMP:20260420T105118Z
END:VEVENT
END:VCALENDAR