BEGIN:VCALENDAR
VERSION:2.0
PRODID:-//hacksw/handcal//NONSGML v1.0//EN
CALSCALE:GREGORIAN
BEGIN:VEVENT
UID:69e5af242ce0f
SEQUENCE:0
DESCRIPTION:【イベント】海野麻雪2026SS_moon yin yoga～私を整える夜ヨガ～
DTSTART:20260514T103000Z
DTEND:20260514T120000Z
SUMMARY:【イベント】海野麻雪2026SS_moon yin yoga～私を整える夜ヨガ～
LOCATION:LIFORK MINAMI AOYAMA
URL:https://e-ve.event-form.jp/event/116573/dBq5sn8MnD
DTSTAMP:20260420T134420Z
END:VEVENT
END:VCALENDAR