BEGIN:VCALENDAR
VERSION:2.0
PRODID:-//hacksw/handcal//NONSGML v1.0//EN
CALSCALE:GREGORIAN
BEGIN:VEVENT
UID:69e525b87fe79
SEQUENCE:0
DESCRIPTION:【2026ASOいのちの祝祭公演】　愛と夢を織り込み歌い舞う　精霊コーラス隊/フラダンサー募集
DTSTART:20251218T100000Z
DTEND:20260621T030000Z
SUMMARY:【2026ASOいのちの祝祭公演】　愛と夢を織り込み歌い舞う　精霊コーラス隊/フラダンサー募集
LOCATION:
URL:https://e-ve.event-form.jp/event/117272/QWobIl
DTSTAMP:20260420T035800Z
END:VEVENT
END:VCALENDAR