BEGIN:VCALENDAR
VERSION:2.0
PRODID:-//hacksw/handcal//NONSGML v1.0//EN
CALSCALE:GREGORIAN
BEGIN:VEVENT
UID:69e5b9a707c17
SEQUENCE:0
DESCRIPTION:適職診断×合同説明会採用イベント 学生200名×企業40社
DTSTART:20260216T030000Z
DTEND:20260216T080000Z
SUMMARY:静岡Beeステップ適職フェア
LOCATION:グランシップ静岡　10階
URL:https://e-ve.event-form.jp/event/117355/beestep
DTSTAMP:20260420T142911Z
END:VEVENT
END:VCALENDAR