BEGIN:VCALENDAR
VERSION:2.0
PRODID:-//hacksw/handcal//NONSGML v1.0//EN
CALSCALE:GREGORIAN
BEGIN:VEVENT
UID:69e5b55e9047d
SEQUENCE:0
DESCRIPTION:立食パーティー形式採用イベント 学生30名×企業5社
DTSTART:20260124T060000Z
DTEND:20260124T090000Z
SUMMARY:2026/1/24 LIVE on MEETS
LOCATION:ヒトヤドホール
URL:https://e-ve.event-form.jp/event/117488/liveonmeets
DTSTAMP:20260420T141054Z
END:VEVENT
END:VCALENDAR