BEGIN:VCALENDAR
VERSION:2.0
PRODID:-//hacksw/handcal//NONSGML v1.0//EN
CALSCALE:GREGORIAN
BEGIN:VEVENT
UID:69e7a4aab99da
SEQUENCE:0
DESCRIPTION:2026年3月8日
DTSTART:20260308T033000Z
DTEND:20260308T070000Z
SUMMARY:FUKUSHI就職フェアKYOTO
LOCATION:みやこめっせ3階
URL:https://e-ve.event-form.jp/event/118772/dwvaB9jq
DTSTAMP:20260422T012410Z
END:VEVENT
END:VCALENDAR