BEGIN:VCALENDAR
VERSION:2.0
PRODID:-//hacksw/handcal//NONSGML v1.0//EN
CALSCALE:GREGORIAN
BEGIN:VEVENT
UID:69ed552c1dbea
SEQUENCE:0
DESCRIPTION:＜12/17追加講演＞取適法（改正下請法）の背景と展望～古谷前公正取引委員会委員長に聞く～
DTSTART:20251217T060000Z
DTEND:20251217T073000Z
SUMMARY:＜12/17追加講演＞取適法（改正下請法）の背景と展望～古谷前公正取引委員会委員長に聞く～
LOCATION:岩田合同法律事務所セミナールーム
URL:https://e-ve.event-form.jp/event/119267/igseminar_kyousou02
DTSTAMP:20260426T085836Z
END:VEVENT
END:VCALENDAR