BEGIN:VCALENDAR
VERSION:2.0
PRODID:-//hacksw/handcal//NONSGML v1.0//EN
CALSCALE:GREGORIAN
BEGIN:VEVENT
UID:69e53794b9c4c
SEQUENCE:0
DESCRIPTION:2026 HOKKAIDO HOME BUILDERS' SHOW　Online Registration　　
DTSTART:20260423T003000Z
DTEND:20260423T073000Z
SUMMARY:株式会社キムラ　2026北海道ホームビルダーズショー　事前入場登録　　
LOCATION:アクセスサッポロ
URL:https://e-ve.event-form.jp/event/120197/R3LI3huP
DTSTAMP:20260420T051412Z
END:VEVENT
END:VCALENDAR