BEGIN:VCALENDAR
VERSION:2.0
PRODID:-//hacksw/handcal//NONSGML v1.0//EN
CALSCALE:GREGORIAN
BEGIN:VEVENT
UID:69e60b9876c85
SEQUENCE:0
DESCRIPTION:【イベント】中畑美希_12月6日開催　アライメントヨガ×リストラティブヨガ
DTSTART:20251206T010000Z
DTEND:20251206T051700Z
SUMMARY:【イベント】中畑美希_12月6日開催　アライメントヨガ×リストラティブヨガ
LOCATION:精華町 精華台
URL:https://e-ve.event-form.jp/event/120491/quW3
DTSTAMP:20260420T201848Z
END:VEVENT
END:VCALENDAR