BEGIN:VCALENDAR
VERSION:2.0
PRODID:-//hacksw/handcal//NONSGML v1.0//EN
CALSCALE:GREGORIAN
BEGIN:VEVENT
UID:69ea1b6464ec4
SEQUENCE:0
DESCRIPTION:【ウェビナー】特定技能制度説明会【2/16(月)】
DTSTART:20260216T043000Z
DTEND:20260216T073000Z
SUMMARY:【ウェビナー】特定技能制度説明会【2/16(月)】
LOCATION:JITCO会議室よりオンラインで配信
URL:https://e-ve.event-form.jp/event/121175/KQ63qUaRvC02
DTSTAMP:20260423T221516Z
END:VEVENT
END:VCALENDAR