BEGIN:VCALENDAR
VERSION:2.0
PRODID:-//hacksw/handcal//NONSGML v1.0//EN
CALSCALE:GREGORIAN
BEGIN:VEVENT
UID:69e7528f54051
SEQUENCE:0
DESCRIPTION:〜スポーツ・文化・食・遊びが混ざり合う、みんなの「新しい日常」を考えよう〜
DTSTART:20260312T050000Z
DTEND:20260312T080000Z
SUMMARY:【3/12開催】阿久比スポーツ村「未来をつくる対話会」
LOCATION:阿久比町立中央公民館 アグピアホール（多目的ホール）
URL:https://e-ve.event-form.jp/event/124062/q9csyUdU
DTSTAMP:20260421T193351Z
END:VEVENT
END:VCALENDAR