BEGIN:VCALENDAR
VERSION:2.0
PRODID:-//hacksw/handcal//NONSGML v1.0//EN
CALSCALE:GREGORIAN
BEGIN:VEVENT
UID:69e7315ad0013
SEQUENCE:0
DESCRIPTION:最少催行人数【5名】
DTSTART:20260714T005000Z
DTEND:20260714T084000Z
SUMMARY:【キャンセル】002「技能実習責任者講習」2026/7/14福岡県福岡市
LOCATION:A.R.K.ビル3F【306】
URL:https://e-ve.event-form.jp/event/124567/fukuoka
DTSTAMP:20260421T171210Z
END:VEVENT
END:VCALENDAR