BEGIN:VCALENDAR
VERSION:2.0
PRODID:-//hacksw/handcal//NONSGML v1.0//EN
CALSCALE:GREGORIAN
BEGIN:VEVENT
UID:69e58d6924a6a
SEQUENCE:0
DESCRIPTION:第１７回館山わかしおトライアスロン　#レース
DTSTART:20260523T150000Z
DTEND:20260524T145900Z
SUMMARY:第１７回館山わかしおトライアスロン　#レース
LOCATION:千葉県館山市
URL:https://e-ve.event-form.jp/event/125156/r001360
DTSTAMP:20260420T112025Z
END:VEVENT
END:VCALENDAR