BEGIN:VCALENDAR
VERSION:2.0
PRODID:-//hacksw/handcal//NONSGML v1.0//EN
CALSCALE:GREGORIAN
BEGIN:VEVENT
UID:69e5ffd16ff32
SEQUENCE:0
DESCRIPTION:館山わかしおトライアスロン・木更津トライアスロンWエントリー　#レース
DTSTART:20260523T150000Z
DTEND:20260524T145900Z
SUMMARY:館山わかしおトライアスロン・木更津トライアスロンWエントリー　#レース
LOCATION:千葉県館山市
URL:https://e-ve.event-form.jp/event/125320/r001360_r001361
DTSTAMP:20260420T192833Z
END:VEVENT
END:VCALENDAR