BEGIN:VCALENDAR
VERSION:2.0
PRODID:-//hacksw/handcal//NONSGML v1.0//EN
CALSCALE:GREGORIAN
BEGIN:VEVENT
UID:69e73cbe737e7
SEQUENCE:0
DESCRIPTION:最少催行人数【5名】
DTSTART:20260806T005000Z
DTEND:20260806T071000Z
SUMMARY:004「生活指導員講習」2026/8/6徳島県徳島市
LOCATION:徳島県立産業観光交流センター「アスティとくしま」
URL:https://e-ve.event-form.jp/event/125875/tokushima
DTSTAMP:20260421T180046Z
END:VEVENT
END:VCALENDAR