BEGIN:VCALENDAR
VERSION:2.0
PRODID:-//hacksw/handcal//NONSGML v1.0//EN
CALSCALE:GREGORIAN
BEGIN:VEVENT
UID:69eb7e0e6d32b
SEQUENCE:0
DESCRIPTION:エキスパートが教える 有害生物リスク、カビ汚染の対策事例
DTSTART:20260616T020000Z
DTEND:20260616T070000Z
SUMMARY:第701回 クリンネス大学 旭川講座
LOCATION:一般財団法人 道北地域旭川地場産業振興センター
URL:https://e-ve.event-form.jp/event/126556/C701
DTSTAMP:20260424T232830Z
END:VEVENT
END:VCALENDAR