BEGIN:VCALENDAR
VERSION:2.0
PRODID:-//hacksw/handcal//NONSGML v1.0//EN
CALSCALE:GREGORIAN
BEGIN:VEVENT
UID:69e61fae2f72c
SEQUENCE:0
DESCRIPTION:～2回シリーズで学ぶ“マネジメント”と“リーダーシップ”～
DTSTART:20260611T043000Z
DTEND:20260619T080000Z
SUMMARY:＜6/11・6/19開催＞第7期 取締役・役員のための研修講座
LOCATION:茨城県産業会館　大会議室
URL:https://e-ve.event-form.jp/event/127124/20260611
DTSTAMP:20260420T214430Z
END:VEVENT
END:VCALENDAR