BEGIN:VCALENDAR
VERSION:2.0
PRODID:-//hacksw/handcal//NONSGML v1.0//EN
CALSCALE:GREGORIAN
BEGIN:VEVENT
UID:69eb90c59b56a
SEQUENCE:0
DESCRIPTION:猫の歯周病 治療とケアのアップデート
DTSTART:20260408T120000Z
DTEND:20260408T133000Z
SUMMARY:VETS TECH WEB SEMINAR Vol.75（戸田先生）
LOCATION:WEB SEMINAR
URL:https://e-ve.event-form.jp/event/127132/vetstechwebseminar20260408
DTSTAMP:20260425T004821Z
END:VEVENT
END:VCALENDAR