BEGIN:VCALENDAR
VERSION:2.0
PRODID:-//hacksw/handcal//NONSGML v1.0//EN
CALSCALE:GREGORIAN
BEGIN:VEVENT
UID:69e5002c160db
SEQUENCE:0
DESCRIPTION:【イベント】大城若菜_2026/4/24　白熱！社員球技大会～バレーボール編～
DTSTART:20260424T000000Z
DTEND:20260424T030000Z
SUMMARY:【イベント】大城若菜_2026/4/24　白熱！社員球技大会～バレーボール編～
LOCATION:台東リバーサイドスポーツセンター
URL:https://e-ve.event-form.jp/event/127282/glno6a
DTSTAMP:20260420T011748Z
END:VEVENT
END:VCALENDAR