BEGIN:VCALENDAR
VERSION:2.0
PRODID:-//hacksw/handcal//NONSGML v1.0//EN
CALSCALE:GREGORIAN
BEGIN:VEVENT
UID:69e774fe05b6d
SEQUENCE:0
DESCRIPTION:2026年3月16日（月）19:00-21:30
DTSTART:20260316T100000Z
DTEND:20260316T123000Z
SUMMARY:来場者数が2.5倍になった!?　東京銭湯・電気湯と考える「地域と銭湯のこれから」
LOCATION:上古町の百年長屋SAN ２階
URL:https://e-ve.event-form.jp/event/127305/kaikou2025-12
DTSTAMP:20260421T220046Z
END:VEVENT
END:VCALENDAR