BEGIN:VCALENDAR
VERSION:2.0
PRODID:-//hacksw/handcal//NONSGML v1.0//EN
CALSCALE:GREGORIAN
BEGIN:VEVENT
UID:69e502327596c
SEQUENCE:0
DESCRIPTION:【イベント】中畑美希_2026/5/17 ツツジを見にいこう~登山リ×ヨガで自然を味わう１日～
DTSTART:20260517T000000Z
DTEND:20260517T080000Z
SUMMARY:【イベント】中畑美希_2026/5/17 ツツジを見にいこう~登山リ×ヨガで自然を味わう１日～
LOCATION:葛城山
URL:https://e-ve.event-form.jp/event/127349/quW3
DTSTAMP:20260420T012626Z
END:VEVENT
END:VCALENDAR