BEGIN:VCALENDAR
VERSION:2.0
PRODID:-//hacksw/handcal//NONSGML v1.0//EN
CALSCALE:GREGORIAN
BEGIN:VEVENT
UID:69e524b5746e8
SEQUENCE:0
DESCRIPTION:適職診断×合同説明会採用イベント 学生200名×企業40社
DTSTART:20260901T030000Z
DTEND:20260901T080000Z
SUMMARY:【28卒】静岡Beeステップ適職フェア
LOCATION:グランシップ静岡　海ホール
URL:https://e-ve.event-form.jp/event/127361/beestep
DTSTAMP:20260420T035341Z
END:VEVENT
END:VCALENDAR