BEGIN:VCALENDAR
VERSION:2.0
PRODID:-//hacksw/handcal//NONSGML v1.0//EN
CALSCALE:GREGORIAN
BEGIN:VEVENT
UID:69e72db17f072
SEQUENCE:0
DESCRIPTION:３ヶ月であなたも愛され女優顔　〜理想の人にずっと愛される女性に～
DTSTART:20260422T043000Z
DTEND:20260422T073000Z
SUMMARY:シンデレラメイクレッスン体験会　  ４月  ２２日（さいたま大宮）
LOCATION:メイクサロン　クオーレ
URL:https://e-ve.event-form.jp/event/127459/0422r
DTSTAMP:20260421T165633Z
END:VEVENT
END:VCALENDAR