BEGIN:VCALENDAR
VERSION:2.0
PRODID:-//hacksw/handcal//NONSGML v1.0//EN
CALSCALE:GREGORIAN
BEGIN:VEVENT
UID:69e6f51bc6466
SEQUENCE:0
DESCRIPTION:３ヶ月であなたも愛され女優顔　〜理想の人にずっと愛される女性に～
DTSTART:20260423T040000Z
DTEND:20260423T080000Z
SUMMARY:【満席が続き、追加決定！】シンデレラメイクレッスン体験会　　４月２３日（池袋）
LOCATION:アットビジネスセンター池袋駅前 別館
URL:https://e-ve.event-form.jp/event/127461/0423rt
DTSTAMP:20260421T125507Z
END:VEVENT
END:VCALENDAR