BEGIN:VCALENDAR
VERSION:2.0
PRODID:-//hacksw/handcal//NONSGML v1.0//EN
CALSCALE:GREGORIAN
BEGIN:VEVENT
UID:69e79a1fae213
SEQUENCE:0
DESCRIPTION:Constructive Peace
DTSTART:20270911T090000Z
DTEND:20270911T120000Z
SUMMARY:ゲンバくん大交流会[in OSAKA 2027]
LOCATION:大阪市内
URL:https://e-ve.event-form.jp/event/127497/R1prUJh6hCd9
DTSTAMP:20260422T003911Z
END:VEVENT
END:VCALENDAR