BEGIN:VCALENDAR
VERSION:2.0
PRODID:-//hacksw/handcal//NONSGML v1.0//EN
CALSCALE:GREGORIAN
BEGIN:VEVENT
UID:69e7c9d324830
SEQUENCE:0
DESCRIPTION:Constructive Peace
DTSTART:20270417T100000Z
DTEND:20270417T120000Z
SUMMARY:ゲンバくん交流会[in NAGOYA 2027]
LOCATION:名古屋市内
URL:https://e-ve.event-form.jp/event/127498/JtQo
DTSTAMP:20260422T040243Z
END:VEVENT
END:VCALENDAR