BEGIN:VCALENDAR
VERSION:2.0
PRODID:-//hacksw/handcal//NONSGML v1.0//EN
CALSCALE:GREGORIAN
BEGIN:VEVENT
UID:69e797d4a26dc
SEQUENCE:0
DESCRIPTION:Constructive Peace
DTSTART:20270424T100000Z
DTEND:20270424T120000Z
SUMMARY:ゲンバくん交流会[in HUKUOKA 2027]
LOCATION:福岡市内
URL:https://e-ve.event-form.jp/event/127499/JtQo
DTSTAMP:20260422T002924Z
END:VEVENT
END:VCALENDAR