BEGIN:VCALENDAR
VERSION:2.0
PRODID:-//hacksw/handcal//NONSGML v1.0//EN
CALSCALE:GREGORIAN
BEGIN:VEVENT
UID:69e7693d6d007
SEQUENCE:0
DESCRIPTION:口腔細菌学アップデート　歯周病から糖尿病・慢性腎臓病までを見据えたリスクマネジメント
DTSTART:20260712T013000Z
DTEND:20260712T070000Z
SUMMARY:口腔細菌学アップデート　歯周病から糖尿病・慢性腎臓病までを見据えたリスクマネジメント
LOCATION:大手町プレイス ホール＆カンファレンス
URL:https://e-ve.event-form.jp/event/127585/weltec
DTSTAMP:20260421T211037Z
END:VEVENT
END:VCALENDAR