BEGIN:VCALENDAR
VERSION:2.0
PRODID:-//hacksw/handcal//NONSGML v1.0//EN
CALSCALE:GREGORIAN
BEGIN:VEVENT
UID:69eb7d57b83c2
SEQUENCE:0
DESCRIPTION:【対面体験会】5月19日(火)
DTSTART:20260519T103000Z
DTEND:20260519T123000Z
SUMMARY:【対面体験会】5月19日(火)
LOCATION:TKP市ヶ谷カンファレスセンター　カンファレンスルーム6D
URL:https://e-ve.event-form.jp/event/128221/taimenntaiken260519
DTSTAMP:20260424T232527Z
END:VEVENT
END:VCALENDAR