BEGIN:VCALENDAR
VERSION:2.0
PRODID:-//hacksw/handcal//NONSGML v1.0//EN
CALSCALE:GREGORIAN
BEGIN:VEVENT
UID:69e63159a36bd
SEQUENCE:0
DESCRIPTION:東北大学半導体クリエイティビティハブ・東北半導体タレントハブ 合同シンポジウム
DTSTART:20260520T050000Z
DTEND:20260520T080000Z
SUMMARY:東北大学半導体クリエイティビティハブ・東北半導体タレントハブ 合同シンポジウム
LOCATION:TKPガーデンシティ仙台 ホール30B（情報交換会は本シンポジウムと同フロア内ホール30A）
URL:https://e-ve.event-form.jp/event/128328/20260520Shab
DTSTAMP:20260420T225953Z
END:VEVENT
END:VCALENDAR