BEGIN:VCALENDAR
VERSION:2.0
PRODID:-//hacksw/handcal//NONSGML v1.0//EN
CALSCALE:GREGORIAN
BEGIN:VEVENT
UID:69e8d8ec19f68
SEQUENCE:0
DESCRIPTION:2026年7月13日（月）-  7月14日（火）
DTSTART:20260714T010000Z
DTEND:20260714T074500Z
SUMMARY:解剖学ボディイメージつくり入門講座｜上半身編｜大阪｜2日間
LOCATION:天神第一ビル　６階６０５号室
URL:https://e-ve.event-form.jp/event/128345/2026071314oosaka
DTSTAMP:20260422T231924Z
END:VEVENT
END:VCALENDAR