BEGIN:VCALENDAR
VERSION:2.0
PRODID:-//hacksw/handcal//NONSGML v1.0//EN
CALSCALE:GREGORIAN
BEGIN:VEVENT
UID:69e695425513c
SEQUENCE:0
DESCRIPTION:全国の医学部の入試情報が集まる！最新情報をいち早くご案内
DTSTART:20260720T020000Z
DTEND:20260720T070000Z
SUMMARY:2026 全国医学部進学相談会 in 福岡
LOCATION:福岡ファッションビル7F
URL:https://e-ve.event-form.jp/event/128726/0720fukuoka
DTSTAMP:20260421T060610Z
END:VEVENT
END:VCALENDAR