BEGIN:VCALENDAR
VERSION:2.0
PRODID:-//hacksw/handcal//NONSGML v1.0//EN
CALSCALE:GREGORIAN
BEGIN:VEVENT
UID:69e6962f63a10
SEQUENCE:0
DESCRIPTION:全国の医学部の入試情報が集まる！最新情報をいち早くご案内
DTSTART:20260726T020000Z
DTEND:20260726T070000Z
SUMMARY:2026 全国医学部進学相談会 in 大阪
LOCATION:コングレコンベンションセンター
URL:https://e-ve.event-form.jp/event/128729/0726osaka
DTSTAMP:20260421T061007Z
END:VEVENT
END:VCALENDAR