BEGIN:VCALENDAR
VERSION:2.0
PRODID:-//hacksw/handcal//NONSGML v1.0//EN
CALSCALE:GREGORIAN
BEGIN:VEVENT
UID:69e69740b72e4
SEQUENCE:0
DESCRIPTION:全国の医学部の入試情報が集まる！最新情報をいち早くご案内
DTSTART:20260811T020000Z
DTEND:20260811T070000Z
SUMMARY:2026 全国医学部進学相談会 in 名古屋
LOCATION:ウインクあいち
URL:https://e-ve.event-form.jp/event/128731/0811nagoya
DTSTAMP:20260421T061440Z
END:VEVENT
END:VCALENDAR