BEGIN:VCALENDAR
VERSION:2.0
PRODID:-//hacksw/handcal//NONSGML v1.0//EN
CALSCALE:GREGORIAN
BEGIN:VEVENT
UID:69e69731d85c6
SEQUENCE:0
DESCRIPTION:全国の医学部の入試情報が集まる！最新情報をいち早くご案内
DTSTART:20260830T020000Z
DTEND:20260830T070000Z
SUMMARY:2026 全国医学部進学相談会 in 札幌
LOCATION:アスティ45　4F
URL:https://e-ve.event-form.jp/event/128732/0830sapporo
DTSTAMP:20260421T061425Z
END:VEVENT
END:VCALENDAR