BEGIN:VCALENDAR
VERSION:2.0
PRODID:-//hacksw/handcal//NONSGML v1.0//EN
CALSCALE:GREGORIAN
BEGIN:VEVENT
UID:69ece187a870a
SEQUENCE:0
DESCRIPTION:松山商工会議所　会員大会2026
DTSTART:20260528T063000Z
DTEND:20260528T093000Z
SUMMARY:松山商工会議所　会員大会2026
LOCATION:真珠の間
URL:https://e-ve.event-form.jp/event/128874/7n4fMqcGat
DTSTAMP:20260426T004511Z
END:VEVENT
END:VCALENDAR