BEGIN:VCALENDAR
VERSION:2.0
PRODID:-//hacksw/handcal//NONSGML v1.0//EN
CALSCALE:GREGORIAN
BEGIN:VEVENT
UID:69ecfd9cd74b9
SEQUENCE:0
DESCRIPTION:第128回日本循環器学会中国・四国合同地方会
DTSTART:20260605T233500Z
DTEND:20260607T061000Z
SUMMARY:第128回日本循環器学会中国・四国合同地方会
LOCATION:岡山コンベンションセンター
URL:https://e-ve.event-form.jp/event/129078/jcs-form-paid-dr-chugokushikoku128
DTSTAMP:20260426T024500Z
END:VEVENT
END:VCALENDAR