BEGIN:VCALENDAR
VERSION:2.0
PRODID:-//hacksw/handcal//NONSGML v1.0//EN
CALSCALE:GREGORIAN
BEGIN:VEVENT
UID:69e5fc871ceed
SEQUENCE:0
DESCRIPTION:CPDS認定・無料
DTSTART:20260512T050000Z
DTEND:20260512T054500Z
SUMMARY:2026/05/12（火）14:00～　総合評価落札方式で選ばれる企業へ！工事管理・評価加点・ICT活用セミナー
LOCATION:オンライン（全国）
URL:https://e-ve.event-form.jp/event/129194/2605121400_ICT
DTSTAMP:20260420T191431Z
END:VEVENT
END:VCALENDAR