BEGIN:VCALENDAR
VERSION:2.0
PRODID:-//hacksw/handcal//NONSGML v1.0//EN
CALSCALE:GREGORIAN
BEGIN:VEVENT
UID:69e5ff4fb4dd9
SEQUENCE:0
DESCRIPTION:CPDS認定・無料
DTSTART:20260515T013000Z
DTEND:20260515T021500Z
SUMMARY:2026/05/15（金）10:30～　【建設DX×防災】日常業務の延長で災害に備える！「頑張らないBCP」実践セミナー
LOCATION:オンライン（全国）
URL:https://e-ve.event-form.jp/event/129208/2605151030_kdx
DTSTAMP:20260420T192623Z
END:VEVENT
END:VCALENDAR