BEGIN:VCALENDAR
VERSION:2.0
PRODID:-//hacksw/handcal//NONSGML v1.0//EN
CALSCALE:GREGORIAN
BEGIN:VEVENT
UID:69e6009b6e371
SEQUENCE:0
DESCRIPTION:開催時間　10:00~16:45
DTSTART:20260604T010000Z
DTEND:20260604T074500Z
SUMMARY:2026/06/04（木）10：00～【KOS】 A納図 「初級編」
LOCATION:オンライン（全国）
URL:https://e-ve.event-form.jp/event/129420/kos260604
DTSTAMP:20260420T193155Z
END:VEVENT
END:VCALENDAR