BEGIN:VCALENDAR
VERSION:2.0
PRODID:-//hacksw/handcal//NONSGML v1.0//EN
CALSCALE:GREGORIAN
BEGIN:VEVENT
UID:69e6005dba928
SEQUENCE:0
DESCRIPTION:開催時間　10:00~11:45
DTSTART:20260605T010000Z
DTEND:20260605T024500Z
SUMMARY:2026/06/05（金）10：00～【KOS】 建設労働災害の発生防止及び発生時の対応
LOCATION:オンライン（全国）
URL:https://e-ve.event-form.jp/event/129425/kos260605am
DTSTAMP:20260420T193053Z
END:VEVENT
END:VCALENDAR