BEGIN:VCALENDAR
VERSION:2.0
PRODID:-//hacksw/handcal//NONSGML v1.0//EN
CALSCALE:GREGORIAN
BEGIN:VEVENT
UID:69e600529cffe
SEQUENCE:0
DESCRIPTION:開催時間　10:00~16:45
DTSTART:20260609T010000Z
DTEND:20260609T074500Z
SUMMARY:2026/06/09（火）10：00～【KOS】 A納図 「図面応用編」
LOCATION:オンライン（全国）
URL:https://e-ve.event-form.jp/event/129427/kos260609
DTSTAMP:20260420T193042Z
END:VEVENT
END:VCALENDAR