BEGIN:VCALENDAR
VERSION:2.0
PRODID:-//hacksw/handcal//NONSGML v1.0//EN
CALSCALE:GREGORIAN
BEGIN:VEVENT
UID:69e8aed5dcbb2
SEQUENCE:0
DESCRIPTION:開催時間　10:00~16:45
DTSTART:20260610T010000Z
DTEND:20260610T074500Z
SUMMARY:2026/06/10（水）10：00～【KOS】 デキスパート「現場大将」「出来形展開図作成」土木測量計算と展開図作成の基礎編
LOCATION:オンライン（全国）
URL:https://e-ve.event-form.jp/event/129429/kos260610
DTSTAMP:20260422T201949Z
END:VEVENT
END:VCALENDAR